BEGIN:VCALENDAR
VERSION:2.0
PRODID:-// - ECPv6.3.1//NONSGML v1.0//EN
CALSCALE:GREGORIAN
METHOD:PUBLISH
X-ORIGINAL-URL:https://fitmise.cz
X-WR-CALDESC:Akce na 
REFRESH-INTERVAL;VALUE=DURATION:PT1H
X-Robots-Tag:noindex
X-PUBLISHED-TTL:PT1H
BEGIN:VTIMEZONE
TZID:Europe/Prague
BEGIN:DAYLIGHT
TZOFFSETFROM:+0100
TZOFFSETTO:+0200
TZNAME:CEST
DTSTART:20250330T010000
END:DAYLIGHT
BEGIN:STANDARD
TZOFFSETFROM:+0200
TZOFFSETTO:+0100
TZNAME:CET
DTSTART:20251026T010000
END:STANDARD
END:VTIMEZONE
BEGIN:VEVENT
DTSTART;TZID=Europe/Prague:20251003T140000
DTEND;TZID=Europe/Prague:20251005T130000
DTSTAMP:20260419T192413
CREATED:20250418T165442Z
LAST-MODIFIED:20250418T165442Z
UID:27608-1759500000-1759669200@fitmise.cz
SUMMARY:Podzimní pobyt s jógou v krásné přírodě
DESCRIPTION:Podzimní restart v Krkonoších – víkend plný klidného pohybu\, relaxu a přírody\n3.–5. října 2025 | Horský hotel Tetřeví boudy\, Dolní Dvůr (KRNAP) \nVezmi si čas pro sebe a načerpej novou energii na krásném místě obklopeném přírodou. \nČekají nás:\n🧘🏼‍♀️4 pohodové lekce: fasciální strečink\, jin jóga s aromaterapií\, zdravá záda\, jóga\n🥙Skvělé jídlo – polopenze na 2 noci\n👙Wellness – bazén\, whirlpool\, sauna a páry v ceně (1 vstup)\n⛰️A k tomu výhledy a čerstvý horský vzduch.. \nCena:\nPokoj bez výhledu – 4 740 Kč\nPokoj s výhledem – 5 040 Kč
URL:https://fitmise.cz/event/podzimni-pobyt-s-jogou-v-krasne-prirode/
LOCATION:Tetřeví boudy\, Krkonoše\, Tetřeví Boudy Krkonoše\, 543 42 Dolní Dvůr 308\, Česká republika
CATEGORIES:Pobyty
ATTACH;FMTTYPE=image/jpeg:https://fitmise.cz/wp-content/uploads/2025/04/thmb-490-660-8432b07a4bc33537883470c7df884213.jpg
END:VEVENT
BEGIN:VEVENT
DTSTART;VALUE=DATE:20251017
DTEND;VALUE=DATE:20251020
DTSTAMP:20260419T192413
CREATED:20250123T172435Z
LAST-MODIFIED:20250123T172435Z
UID:27602-1760659200-1760918399@fitmise.cz
SUMMARY:Podzimní víkend s jógou v **** a wellnes
DESCRIPTION:Víkendový pobyt s jógou v **** s wellnes v Golf hotel Panorama Kácov\nTermín: 17. 10. – 19. 10. 2025Počet nocí 2\n4 lekce cvičení – Cvičení DNS prof. Koláře\, Jóga\, Zdravá záda\n+ v ceně 5 090 Kč je v rámci pobytu vstup do wellness (bazén\, whirlpooly\, sauna\, pára\, Kneippův chodník) uvedené lekce\, ubytování a snídaně.
URL:https://fitmise.cz/event/podzimni-vikend-s-jogou-v-a-wellnes/
CATEGORIES:Pobyty
ATTACH;FMTTYPE=image/jpeg:https://fitmise.cz/wp-content/uploads/2025/01/panorama.jpg
ORGANIZER;CN="CK Lenka":MAILTO:cklenka@cklenka.cz
END:VEVENT
END:VCALENDAR