BEGIN:VCALENDAR
VERSION:2.0
PRODID:-// - ECPv6.3.1//NONSGML v1.0//EN
CALSCALE:GREGORIAN
METHOD:PUBLISH
X-ORIGINAL-URL:https://fitmise.cz
X-WR-CALDESC:Akce na 
REFRESH-INTERVAL;VALUE=DURATION:PT1H
X-Robots-Tag:noindex
X-PUBLISHED-TTL:PT1H
BEGIN:VTIMEZONE
TZID:Europe/Prague
BEGIN:DAYLIGHT
TZOFFSETFROM:+0100
TZOFFSETTO:+0200
TZNAME:CEST
DTSTART:20250330T010000
END:DAYLIGHT
BEGIN:STANDARD
TZOFFSETFROM:+0200
TZOFFSETTO:+0100
TZNAME:CET
DTSTART:20251026T010000
END:STANDARD
END:VTIMEZONE
BEGIN:VEVENT
DTSTART;TZID=Europe/Prague:20250903T180000
DTEND;TZID=Europe/Prague:20250903T190000
DTSTAMP:20260419T211124
CREATED:20250621T095333Z
LAST-MODIFIED:20250621T095333Z
UID:27631-1756922400-1756926000@fitmise.cz
SUMMARY:Jóga venku – Malešický park
DESCRIPTION:Přijďte se uvolnit\, protáhnout\, posílit a zrelaxovat na čerstvém vzduchu na venkovní lekci jógy. Středy 18:05-19:05\, pondělky podle zájmu…\n\n\nNa začátku se rozdýcháme\, Zklidníme\, rozhýbeme\, pozdravíme sluníčko\, projdeme hlavní částí dle zaměření lekce a na závěr bude i relaxace.\n\n\nJsem Irča a moje lekce jógy jsou vždy jiné a stejné zároveň. Věnuji se potřebám účastníků. Zaměřuji se na preciznost provedení a také možné varianty\, pro ty co potřebují úpravu\, nebo začínají. Každý si najde to své.\n\n\nLekce je jednou dynamická a dáme si do těla\, jindy klidná a relaxační. Záleží na přání.\n\n\nLekce se budou konat\, pouze za příznivého počasí.\n\n\nNa každou lekci se rezervuj v rezervačním systému (RS)\, na lekci je možné dorazit i bez rezervace (jen si v RS zkontroluj\, zda se lekce koná). Termíny platí vždy dle rezervačního systému z něj také v případě\, že by se počasí kazilo dostaneš zprávu\, pokud by lekce nebyla.\n\n\nCo s sebou: Podložku na jógu\, deku\, oblečení dle počasí\n\n\n\n\n\nSraz před lekcí u přístřešku vedle stánku s občerstvením ve střední části Malešického parku.
URL:https://fitmise.cz/event/joga-venku-malesicky-park-29/
LOCATION:Malešický park\, Malešický park\, Praha\, Praha\, 10000\, Česká republika
CATEGORIES:Joga,Venkovní lekce
END:VEVENT
BEGIN:VEVENT
DTSTART;TZID=Europe/Prague:20250920T090000
DTEND;TZID=Europe/Prague:20250920T113000
DTSTAMP:20260419T211124
CREATED:20250726T175521Z
LAST-MODIFIED:20250726T175521Z
UID:27634-1758358800-1758367800@fitmise.cz
SUMMARY:Workshop začínáme s jogou
DESCRIPTION:Máte chuť začít s jógou\, ale nevíte jak? Máte obavu co vás na lekci čeká a že všichni už budou přesně vědět? \nJste věčný začátečník už se z tohoto stavu chcete posunout? Ujistit se a získat ucelený přehled základu? \nPak si nenechte tento workshop utéct. \nV rámci workshopu si projdeme základní dýchání\, pozdrav slunci\, správné provedení vybraných základních asán (pozic) a lehce se dotkneme filosofie jogy. \nNaučíme se: \n\npozdrav slunci\nplný jógový dech\,\nzákladní jógové výrazy\njak používat pomůcky (bloček\, pásek\, deka)\nsprávnou techniku provedení cviků\n\nV rámci pohodové atmosféry stejně naladěných účastníků bude prostor i na dotazy. \nTěším se \nIrča
URL:https://fitmise.cz/event/workshop-zaciname-s-jogou-2/
LOCATION:Pohyb nová harfa\, Praha\, Poděbradská 777/9b\, Praha\, Praha\, Česká republika
CATEGORIES:Speciální akce
ATTACH;FMTTYPE=image/jpeg:https://fitmise.cz/wp-content/uploads/2023/06/23-scaled.jpg
END:VEVENT
END:VCALENDAR